BEGIN:VCALENDAR
VERSION:2.0
PRODID:-//TYPO3/NONSGML Calendarize//EN
BEGIN:VEVENT
UID:calendarize-erste-hilfe-kurs-fuer-kinder
DTSTAMP:20260425T183701Z
DTSTART:20260527T100000Z
DTEND:20260527T140000Z
SUMMARY:Erste-Hilfe-Kurs für Kinder
DESCRIPTION:Erste Hilfe und mehr mit der Malteser Jugend\nGemeinsam lernen
  wir Erste Hilfe\, sind kreativ und haben Spaß zusammen.  Wir freuen uns
  auf dich…\nDienstag\, 27.5.2026 von 10-14 Uhr\nVerpflegung bitte selbst
  mitbringen!\nKosten: keine\nOrt: Städtischen Jugendheim\, Hindenburgstr.
  49\, Bayreuth (Saal 1)\nAltersgruppe: 6-13 jährige\nAnmeldung unter carm
 en.archie@malteser.org\n\n\n
X-ALT-DESC;FMTTYPE=text/html:<p>Erste Hilfe und mehr mit der Malteser Juge
 nd</p>\n<p>Gemeinsam lernen wir Erste Hilfe\, sind kreativ und haben Spaß
  zusammen. &nbsp\;Wir freuen uns auf dich…</p>\n<p>Dienstag\, 27.5.2026 
 von 10-14 Uhr</p>\n<p>Verpflegung bitte selbst mitbringen!</p>\n<p>Kosten:
  keine</p>\n<p>Ort: Städtischen Jugendheim\, Hindenburgstr. 49\, Bayreuth
  (Saal 1)</p>\n<p>Altersgruppe: 6-13 jährige</p>\n<p>Anmeldung unter <a h
 ref="mailto:carmen.archie@malteser.org">carmen.archie@malteser.org</a></p>
 \n\n\n
LOCATION:Städtischen Jugendheim\, Hindenburgstr. 49\, Bayreuth (Saal 1)
END:VEVENT
END:VCALENDAR
