BEGIN:VCALENDAR
VERSION:2.0
PRODID:-//TYPO3/NONSGML Calendarize//EN
BEGIN:VEVENT
UID:calendarize-gespensterjaeger-auf-eisiger-spur-20260614
DTSTAMP:20260421T083801Z
DTSTART:20260614T160000Z
SUMMARY:Gespensterjäger auf eisiger Spur 
DESCRIPTION:Es fängt mit Orangensaft an. Den soll Tom\, ein schüchterner
  Junge\, aus dem Keller holen. Doch in dem sitzt ein Gespenst. Tom nimmt R
 eißaus. Hedwig Kümmelsaft\, eine erfahrene Gespensterjägerin\, bietet i
 hm ihre Hilfe in dieser Angelegenheit an. Und siehe da\, das Gespenst name
 ns Hugo erweist sich als harmlos und selbst hilfebedürftig: Es wurde von 
 einem bösartigen Kollegen aus seinem Zuhause vertrieben und leidet darunt
 er sehr. Tom und Hedwig beschließen\, Hugo zu helfen. Kein einfaches Unte
 rfangen\, wie sich bald herausstellt.\nWeitere Informationen unter www.kul
 turstadl.de\n\nVorverkauf:\nTickets kann man auf unserer Webseite www.kul
 turstadl.de/de/karten-kaufen/\, sowie bei allen OK-Ticket-Vorverkaufsstell
 en als auch an unserer Abendkasse (ab einer Stunde vor Vorstellungsbeginn 
 besetzt) erwerben.\nBekannte Vorverkaufsstelle in Bayreuth:\n95444  Bayre
 uth\nTheaterkasse Bayreuth\nOpernstraße 22\n0921 / 69 001\nMo - Fr: 10:00
  Uhr - 17:00 Uhr\nSa: 10:00 Uhr - 14:00 Uhr\nhttps://www.okticket.de/vvks.
 php
X-ALT-DESC;FMTTYPE=text/html:<p>Es fängt mit Orangensaft an. Den soll Tom
 \, ein schüchterner Junge\, aus dem Keller holen. Doch in dem sitzt ein G
 espenst. Tom nimmt Reißaus. Hedwig Kümmelsaft\, eine erfahrene Gespenste
 rjägerin\, bietet ihm ihre Hilfe in dieser Angelegenheit an. Und siehe da
 \, das Gespenst namens Hugo erweist sich als harmlos und selbst hilfebedü
 rftig: Es wurde von einem bösartigen Kollegen aus seinem Zuhause vertrieb
 en und leidet darunter sehr. Tom und Hedwig beschließen\, Hugo zu helfen.
  Kein einfaches Unterfangen\, wie sich bald herausstellt.</p>\n<p>Weitere 
 Informationen unter <a href="http://www.kulturstadl.de">www.kulturstadl.de
 </a></p>\n\n<p><strong>Vorverkauf:</strong></p>\n<p>Tickets kann man auf u
 nserer Webseite&nbsp\;<a href="https://eu-west-1.protection.sophos.com?d=k
 ulturstadl.de&amp\;u=aHR0cDovL3d3dy5rdWx0dXJzdGFkbC5kZS9kZS9rYXJ0ZW4ta2F1Z
 mVuLw==&amp\;i=NjZhMjc3YjhkNGM1YTQyNjljMWZmMjU0&amp\;t=K3huKzdtSlR5RmM2dTN
 lWjRnbVh4aTdNK0FaM2E1Zk5mNEg0Vkd0QXZkMD0=&amp\;h=a1b6dc3182874f73877c80310
 88f3792&amp\;s=AVNPUEhUT0NFTkNSWVBUSVYGqbhufYR_Oh58_oLstjWk9mTC6upbPt7eoTN
 CPtw7yQ" target="_blank">www.kulturstadl.de/de/karten-kaufen/</a>\, sowie 
 bei allen OK-Ticket-Vorverkaufsstellen als auch an unserer Abendkasse (ab 
 einer Stunde vor Vorstellungsbeginn besetzt) erwerben.</p>\n<p>Bekannte Vo
 rverkaufsstelle in Bayreuth:</p>\n<p>95444&nbsp\; Bayreuth</p>\n<p>Theater
 kasse Bayreuth</p>\n<p>Opernstraße 22</p>\n<p>0921 / 69 001</p>\n<p>Mo - 
 Fr: 10:00 Uhr - 17:00 Uhr</p>\n<p>Sa: 10:00 Uhr - 14:00 Uhr</p>\n<p><a hre
 f="https://eu-west-1.protection.sophos.com?d=okticket.de&amp\;u=aHR0cHM6Ly
 93d3cub2t0aWNrZXQuZGUvdnZrcy5waHA=&amp\;i=NjZhMjc3YjhkNGM1YTQyNjljMWZmMjU0
 &amp\;t=RlRXdTU0ZVdYZWhZdnVreHMyT2FxbDIrR1krZG5QVXBqbldLb0FTRHIwbz0=&amp\;
 h=a1b6dc3182874f73877c8031088f3792&amp\;s=AVNPUEhUT0NFTkNSWVBUSVYGqbhufYR_
 Oh58_oLstjWk9mTC6upbPt7eoTNCPtw7yQ" target="_blank">https://www.okticket.d
 e/vvks.php</a></p>
LOCATION:Brandenburger Kulturstadl e.V. Brandenburger Straße 35\, 95448 B
 ayreuth (https://www.kulturstadl.de/de/theater-stuecke/aktuell/Geisterjaeg
 er.php)
END:VEVENT
END:VCALENDAR
