BEGIN:VCALENDAR
VERSION:2.0
PRODID:-//TYPO3/NONSGML Calendarize//EN
BEGIN:VEVENT
UID:calendarize-kinderfest-des-internationalen-zirkels-bayreuth
DTSTAMP:20260425T101751Z
DTSTART:20260509T110000Z
DTEND:20260509T170000Z
SUMMARY:Kinderfest des internationalen Zirkels Bayreuth
DESCRIPTION:Erstmalig in diesem Jahr findet ein internationales\, integrat
 ives Kinderfest am Europatag in Bayreuth statt. \nUnter der Regie des int
 ernationalen Zirkels kommen viele Akteure zusammen und wollen ein buntes u
 nd abwechslungsreiches Fest für die ganze Familie bieten.
X-ALT-DESC;FMTTYPE=text/html:<p>Erstmalig in diesem Jahr findet ein intern
 ationales\, integratives Kinderfest am Europatag in Bayreuth statt.&nbsp\;
 </p>\n<p>Unter der Regie des internationalen Zirkels kommen viele Akteure 
 zusammen und wollen ein buntes und abwechslungsreiches Fest für die ganze
  Familie bieten.</p>
LOCATION:KOMMunales Jugendzentrum\, Hindeburgstr. 47\, 95445 Bayreuth
END:VEVENT
END:VCALENDAR
