BEGIN:VCALENDAR
VERSION:2.0
PRODID:-//TYPO3/NONSGML Calendarize//EN
BEGIN:VEVENT
UID:calendarize-lange-nacht-der-demokratie
DTSTAMP:20260423T092838Z
DTSTART;VALUE=DATE:20261002
DTEND;VALUE=DATE:20261003
SUMMARY:Lange Nacht der Demokratie
DESCRIPTION:Alle zwei Jahre wird in vielen städten die Lange Nacht der De
 mokratie gefeiert. Selbstverständlich auch in Bayreuth.\nGenauere Infos f
 olgen noch.
X-ALT-DESC;FMTTYPE=text/html:<p>Alle zwei Jahre wird in vielen städten di
 e Lange Nacht der Demokratie gefeiert. Selbstverständlich auch in Bayreut
 h.</p>\n<p>Genauere Infos folgen noch.</p>
LOCATION:
END:VEVENT
END:VCALENDAR
