BEGIN:VCALENDAR
VERSION:2.0
PRODID:-//TYPO3/NONSGML Calendarize//EN
BEGIN:VEVENT
UID:calendarize-mutabor-das-maerchen-von-kalif-storch-20260719
DTSTAMP:20260422T093121Z
DTSTART:20260719T170000Z
DTEND:20260719T180000Z
SUMMARY:Mutabor – Das Märchen von Kalif Storch
DESCRIPTION:Für Kinder von 5 bis 11 Jahre\n"Mutabor – Das Märchen von 
 Kalif Storch"\nnach Wilhelm Hauff\, Bühnenfassung von Dorothea Kirschbaum
 \nEin geheimnisvoller Krämer. Ein wundersames Pulver. Ein Zauberwort: „
 Mutabor“. Chasid\, Kalif von Bagdad\, und sein Großwesir Mansor können
  nicht widerstehen: Gegen alle Warnung der klugen Fatima wagen sie den Zau
 ber und verwandeln sich in Störche. Doch der Zauber birgt eine Regel: Wer
  in Tiergestalt lacht\, vergisst das Zauberwort und bleibt für immer verw
 andelt. Natürlich geschieht genau das – und Chasid und Mansor stecken i
 n ihrem Federkleid fest. Auf der Suche nach Hilfe begegnen sie der verzaub
 erten Prinzessin Lusa\, die vom bösen Zauberer Kaschnur in eine Eule verw
 andelt wurde. Gemeinsam schmieden sie einen Plan\, um das Zauberwort herau
 szufinden\, den Zauber zu brechen und den Zauberer zu besiegen. Ein märch
 enhaftes Theaterabenteuer voller Magie und Verwandlung\, über Freundschaf
 t und Vertrauen.\nWir haben noch einige Termine um 9 Uhr 30 frei\, Buchung
  direkt bei uns im Büro: 0921-76436-0\nFür Vor- oder Nachgespräche\, so
 wie unterrichtsbegleitendes Material können Sie sich direkt an unsere Th
 eaterpädagogin Michaela Beuschel wenden.  Email: michaela.beuschel@studi
 obuehne-bayreuth.de\nDie Ticketpreis für das Kinderstück "MUTABOR"  fü
 r Gruppen bei den geschlossenen Vormittagsaufführungen beträgt 6\,50 Eur
 o\, begleitende Lehrkräfte sind frei.\n(Buchung telefonisch nur über uns
 er Theaterbüro 0921-76436-0).
X-ALT-DESC;FMTTYPE=text/html:<p>Für Kinder von 5 bis 11 Jahre</p>\n<h3><s
 trong>"</strong><strong>Mutabor – Das Märchen von Kalif Storch"</strong
 ></h3>\n<p><strong>nach Wilhelm Hauff\, Bühnenfassung von Dorothea Kirsch
 baum</strong></p>\n<p>Ein geheimnisvoller Krämer. Ein wundersames Pulver.
  Ein Zauberwort: „Mutabor“. Chasid\, Kalif von Bagdad\, und sein Groß
 wesir Mansor können nicht widerstehen: Gegen alle Warnung der klugen Fati
 ma wagen sie den Zauber und verwandeln sich in Störche. Doch der Zauber b
 irgt eine Regel: Wer in Tiergestalt lacht\, vergisst das Zauberwort und bl
 eibt für immer verwandelt. Natürlich geschieht genau das – und Chasid 
 und Mansor stecken in ihrem Federkleid fest. Auf der Suche nach Hilfe bege
 gnen sie der verzauberten Prinzessin Lusa\, die vom bösen Zauberer Kaschn
 ur in eine Eule verwandelt wurde. Gemeinsam schmieden sie einen Plan\, um 
 das Zauberwort herauszufinden\, den Zauber zu brechen und den Zauberer zu 
 besiegen. Ein märchenhaftes Theaterabenteuer voller Magie und Verwandlung
 \, über Freundschaft und Vertrauen.</p>\n<p><strong>Wir haben noch einige
  Termine um 9 Uhr 30 frei\, Buchung direkt bei uns im Büro: 0921-76436-0<
 /strong></p>\n<p>Für Vor- oder Nachgespräche\, sowie unterrichtsbegleite
 ndes Material können Sie sich direkt an unsere&nbsp\;Theaterpädagogin Mi
 chaela Beuschel wenden.&nbsp\; Email: <a href="mailto:michaela.beuschel@st
 udiobuehne-bayreuth.de">michaela.beuschel@studiobuehne-bayreuth.de</a></p>
 \n<p>Die Ticketpreis für das Kinderstück "MUTABOR"&nbsp\; für Gruppen b
 ei den geschlossenen Vormittagsaufführungen beträgt <strong>6\,50 Euro\,
  </strong>begleitende Lehrkräfte sind frei.</p>\n<p>(Buchung telefonisch 
 nur über unser Theaterbüro 0921-76436-0).</p>
LOCATION:Eremitage\, Römischen Theater 
END:VEVENT
END:VCALENDAR
