BEGIN:VCALENDAR
VERSION:2.0
PRODID:-//TYPO3/NONSGML Calendarize//EN
BEGIN:VEVENT
UID:calendarize-plaetzchen-backen-fuer-kinder-mit-dem-stadtjugendring
DTSTAMP:20260421T102245Z
DTSTART:20261118T130000Z
DTEND:20261118T170000Z
SUMMARY:Plätzchen backen für Kinder mit dem Stadtjugendring
DESCRIPTION:Weihnachtsbäckerei für Kinder: Eine der schönsten Aufgaben 
 in der Vorweihnachtszeit ist das Plätzchen backen. Die ganze Küche dufte
 t nach leckeren Plätzchen und vielen anderen süßen Köstlichkeiten. Auc
 h die Kleinsten der Familie haben schon viel Spaß am Ausstechen und Verzi
 eren von Weihnachtsplätzchen. Gemeinsam unter fachmännischer Anleitung w
 erden wir an diesem Nachmittag verschiedene Plätzchen herstellen. Nach de
 m Backen dürfen alle Teilnehmer Ihre Plätzchen mit nach Hause nehmen. Bi
 tte an eine passende Verpackung denken!\nAnmeldung & weitere Informationen
  findet ihr hier\, sobald es genauere Informationen gibt.
X-ALT-DESC;FMTTYPE=text/html:<p>Weihnachtsbäckerei für Kinder: Eine der 
 schönsten Aufgaben in der Vorweihnachtszeit ist das Plätzchen backen. Di
 e ganze Küche duftet nach leckeren Plätzchen und vielen anderen süßen 
 Köstlichkeiten.<br /> Auch die Kleinsten der Familie haben schon viel Spa
 ß am Ausstechen und Verzieren von Weihnachtsplätzchen.<br /> Gemeinsam u
 nter fachmännischer Anleitung werden wir an diesem Nachmittag verschieden
 e Plätzchen herstellen.<br /> Nach dem Backen dürfen alle Teilnehmer Ihr
 e Plätzchen mit nach Hause nehmen. Bitte an eine passende Verpackung denk
 en!</p>\n<p>Anmeldung &amp\; weitere Informationen findet ihr hier\, sobal
 d es genauere Informationen gibt.</p>
LOCATION:Löhehaus
END:VEVENT
END:VCALENDAR
