BEGIN:VCALENDAR
VERSION:2.0
PRODID:-//TYPO3/NONSGML Calendarize//EN
BEGIN:VEVENT
UID:calendarize-slackline
DTSTAMP:20260425T183600Z
DTSTART:20260603T150000Z
SUMMARY:Slackline 
DESCRIPTION:Du möchtest Deine Balance testen? Komm heute bei uns vorbei u
 nd stelle Dich der Slackline-Probe!
X-ALT-DESC;FMTTYPE=text/html:<p>Du möchtest Deine Balance testen? Komm he
 ute bei uns vorbei und stelle Dich der Slackline-Probe!</p>
LOCATION:KOMMunales Jugendzentrum\, Hindenburgstraße 47\, 95445 Bayreuth
END:VEVENT
END:VCALENDAR
