BEGIN:VCALENDAR
VERSION:2.0
PRODID:-//TYPO3/NONSGML Calendarize//EN
BEGIN:VEVENT
UID:calendarize-sommerferienbetreuung
DTSTAMP:20260420T134454Z
DTSTART;VALUE=DATE:20260803
DTEND;VALUE=DATE:20260808
SUMMARY:Sommerferienbetreuung
DESCRIPTION:Sehr geehrte Eltern und Erziehungsberechtigte\, mit großer Vo
 rfreude blicken wir auf die bevorstehenden Ferien und freuen uns darauf\, 
 Ihre Kinder in der Sommerferienbetreuung (03.08. - 07.08.26) an der Albert
 -Schweizer-Mittelschule Bayreuth zu begrüßen.\nWa s  i s t  g e p l a 
 n t ? Montag: Wir starten die Woche mit einem fröhlichen Kennenlernen\, n
 utzen das gute Wetter zum draußen Spielen und basteln viele schöne Sache
 n. Dienstag & Mittwoch: Diese Tage stehen ganz für die Kinder. Wir beschl
 ießen gemeinsam\, worauf die Kinder Lust und Laune haben\, von einem spon
 tanen Besuch in der Wilhelminenaue\, bis hin zum entspannten Perlentieren-
 Basteln\, über draußen ganz viel Fußball spielen oder einer kleinen Was
 serschlacht ist alles möglich. Donnerstag: Heute geht es zum Bouldern und
  Klettern ins Kletterzentrum Bayreuth. Die Kinder erwartet dort mehrere Kl
 etterwände mit vielen spannenden Herausforderungen und jede Menge Spaß. 
 Danach gehen wir gemeinsam noch zum Abenteuerspielplatz oder zum Bolzplatz
  und picknicken dort gemeinsam im Freien. Freitag: Neben Spiel\, Kreativit
 ät und Spaß\, beenden wir die Woche gemeinsam mit einer kleinen Abkühlu
 ng.\nAnmeldung.
X-ALT-DESC;FMTTYPE=text/html:<p>Sehr geehrte Eltern und Erziehungsberechti
 gte\,<br /> mit großer Vorfreude blicken wir auf die bevorstehenden Ferie
 n und freuen uns darauf\, Ihre Kinder in der Sommerferienbetreuung (03.08.
  - 07.08.26) an der Albert-Schweizer-Mittelschule Bayreuth zu begrüßen.<
 /p>\n<p>Wa s&nbsp\; i s t&nbsp\; g e p l a n t ?<br /> Montag: Wir starten
  die Woche mit einem fröhlichen Kennenlernen\, nutzen das gute Wetter zum
  draußen Spielen und basteln viele schöne Sachen.<br /> Dienstag &amp\; 
 Mittwoch: Diese Tage stehen ganz für die Kinder. Wir beschließen gemeins
 am\, worauf die Kinder Lust und Laune haben\, von einem spontanen Besuch i
 n der Wilhelminenaue\, bis hin zum entspannten Perlentieren-Basteln\, übe
 r draußen ganz viel Fußball spielen oder einer kleinen Wasserschlacht is
 t alles möglich.<br /> Donnerstag: Heute geht es zum Bouldern und Kletter
 n ins Kletterzentrum Bayreuth. Die Kinder erwartet dort mehrere Kletterwä
 nde mit vielen spannenden Herausforderungen und jede Menge Spaß. Danach g
 ehen wir gemeinsam noch zum Abenteuerspielplatz oder zum Bolzplatz und pic
 knicken dort gemeinsam im Freien.<br /> Freitag: Neben Spiel\, Kreativitä
 t und Spaß\, beenden wir die Woche gemeinsam mit einer kleinen Abkühlung
 .</p>\n<p><a href="https://form.jotform.com/260742610503346">Anmeldung.</a
 ></p>
LOCATION:Albert-Schweitzer-Mittelschule - Äußere Badstraße 30\, 95448 B
 ayreuth
END:VEVENT
END:VCALENDAR
